BEGIN:VCALENDAR
VERSION:2.0
PRODID:-//Veterans For Unification - ECPv6.15.18//NONSGML v1.0//EN
CALSCALE:GREGORIAN
METHOD:PUBLISH
X-ORIGINAL-URL:https://www.veteransforunification.org
X-WR-CALDESC:Events for Veterans For Unification
REFRESH-INTERVAL;VALUE=DURATION:PT1H
X-Robots-Tag:noindex
X-PUBLISHED-TTL:PT1H
BEGIN:VTIMEZONE
TZID:UTC
BEGIN:STANDARD
TZOFFSETFROM:+0000
TZOFFSETTO:+0000
TZNAME:UTC
DTSTART:20180101T000000
END:STANDARD
END:VTIMEZONE
BEGIN:VEVENT
DTSTART;TZID=UTC:20241207T110000
DTEND;TZID=UTC:20241207T123000
DTSTAMP:20260422T020824
CREATED:20241205T011543Z
LAST-MODIFIED:20241205T011646Z
UID:2394-1733569200-1733574600@www.veteransforunification.org
SUMMARY:83rd Anniversary PEARL HARBOR Day of Remembrance 2024
DESCRIPTION:Please join us in camaraderie & support with a “Post Everlasting” memorial program remembering and honoring all warriors assigned to USS Naval Ships or stationed on land-base Ops at Pearl Harbor\, Hawaii early Sunday morning on Dec 7\, 1941. They are only forgotten if …We\, fail to Remember them.Uniform of the Day is: Comfort-casual \n\nFor inquires Veteran contact: Chicago MARINES info@OnceAndAlways.orgcommunity groups contact: rose/CN rsunrise2@aol.com\n \nThis event is continuing with our prelude launch in recognition to our 250th US Marine Corps Birthday-Chicago in 2025\, celebrating a quarter-century of service across the globe since 10 November 1775\, as “America’s Crisis Response Team” …in the Air\, on Land and by Sea. Semper Fidelis.\n(photoCR: the Garden Island & CBS58)
URL:https://www.veteransforunification.org/event/83rd-anniversary-pearl-harbor-day-of-remembrance-2024/
LOCATION:American Legion & Sal\, 1824 W. Cortland St.\, Chicago\, IL\, 60622\, United States
CATEGORIES:ceremony
ATTACH;FMTTYPE=image/jpeg:https://www.veteransforunification.org/wp-content/uploads/2024/12/once_and_always_pearl_harbor_83_rememberance_2024.jpg
END:VEVENT
BEGIN:VEVENT
DTSTART;TZID=UTC:20240525T110000
DTEND;TZID=UTC:20240525T140000
DTSTAMP:20260422T020824
CREATED:20240524T231929Z
LAST-MODIFIED:20240524T231929Z
UID:2238-1716634800-1716645600@www.veteransforunification.org
SUMMARY:Chicago Memorial Day Parade 2024
DESCRIPTION:Memorial Day Wreath Laying Ceremony & Parade\n\n\n\n\n\n\n\n\nSaturday\, May 25\, 2024\nWreath Laying Ceremony\, Daley Plaza\, 50 W. Washington St. at 11am\nParade\, State Street from Lake St. to Van Buren St. at Noon\n\n\n\n\n\n\nChicago’s Memorial Day Parade honors all men and woman who made the ultimate sacrifice in defense of our country. \nThe Wreath Laying Ceremony will begin at 11am at Daley Plaza (50 W. Washington Street). The Parade will step off at noon and proceed south on State Street from Lake Street to Van Buren Street. Rear Admiral Zeita Merchant\, U.S. Coast Guard will serve as this year’s Parade Grand Marshal. Rear Admiral Merchant\, who was born in Chicago\, recently made history by becoming the first African American female promoted to flag rank in U.S. Coast Guard history. \nThis year’s Major General John A. Logan Patriot Award will honor André Richardson King; and the City of Chicago will acknowledge two Junior Reserve Officers’ Training Corps (JROTC) students with the Cadets of the Year Award: C/LTC Lorena Mozo of Farragut Career Academy and C/Capt Fernando Gonzalez of Marine Leadership Academy. \nDuring the Wreath Laying Ceremony and Parade\, the City of Chicago honors fallen heroes and Gold Star family members who have lost a loved one in the United States Armed Forces to combat operations or while on active duty. Approved by Congress beginning in 1947\, Gold Star Lapel Pins and the Next of Kin Lapel Pins are presented to families not as an award\, but as symbols of honor worn by family members in remembrance of their fallen loved ones and their ultimate sacrifice. \nThe Wreath Laying Ceremony at 11am will also be livestreamed at Chicago.gov/live. \nMore information at about this event  can be found here: https://www.chicago.gov/city/en/depts/dca/supp_info/memorial_day_parade.html
URL:https://www.veteransforunification.org/event/chicago-memorial-day-parade-2024/
LOCATION:IL
CATEGORIES:ceremony
ATTACH;FMTTYPE=image/jpeg:https://www.veteransforunification.org/wp-content/uploads/2024/05/memorialday2024.jpg
END:VEVENT
BEGIN:VEVENT
DTSTART;TZID=UTC:20231202T111500
DTEND;TZID=UTC:20231202T124500
DTSTAMP:20260422T020824
CREATED:20231122T172522Z
LAST-MODIFIED:20231122T172747Z
UID:2120-1701515700-1701521100@www.veteransforunification.org
SUMMARY:82nd Anniversary PEARL HARBOR Day of Remembrance 2023
DESCRIPTION:Invite to the 82nd Anniversary PEARL HARBOR Day of Remembrance 2023. \nThe Once & Always Chicago Marines presents the 82nd Remembrance of the attack on Pearl Harbor memorial program.  Saturday\, December 2\, 2023 at 11:15 am at the American Legion  located at 1824 W. Cortland St.\, Chicago IL 60622. \n(photoCR: the Garden Island & CBS58)
URL:https://www.veteransforunification.org/event/82nd-anniversary-pearl-harbor-day-of-remembrance-2023/
LOCATION:American Legion & Sal\, 1824 W. Cortland St.\, Chicago\, IL\, 60622\, United States
CATEGORIES:ceremony
ATTACH;FMTTYPE=image/jpeg:https://www.veteransforunification.org/wp-content/uploads/2023/11/82nd-2023-Pearl-Harbor-Flyer-event-page-001-scaled.jpg
END:VEVENT
BEGIN:VEVENT
DTSTART;TZID=UTC:20230729T111500
DTEND;TZID=UTC:20230729T124500
DTSTAMP:20260422T020824
CREATED:20230725T184446Z
LAST-MODIFIED:20230725T184600Z
UID:2007-1690629300-1690634700@www.veteransforunification.org
SUMMARY:Korean War Veterans Commemorating the 70th ARMISTICE Salute
DESCRIPTION:Saturday\, July 29\, 2023\nChicago’s Kennedy Park\, 11320 S. Western Ave 60643\n11:15 am till 12:45 pm \nDownload flyer \n 
URL:https://www.veteransforunification.org/event/korean-war-veterans-commemorating-the-70th-armistice-salute/
LOCATION:Kennedy Park\, 11320 S. Western Ave\, Chicago\, IL\, 60643\, United States
CATEGORIES:ceremony
ATTACH;FMTTYPE=image/jpeg:https://www.veteransforunification.org/wp-content/uploads/2023/07/23KWV-Circle-Date-Announcemt-July-29-Ceremony-70th-ARMISTICE-1-1-page-001-scaled.jpg
END:VEVENT
BEGIN:VEVENT
DTSTART;TZID=UTC:20230527T110000
DTEND;TZID=UTC:20230527T140000
DTSTAMP:20260422T020824
CREATED:20230526T071611Z
LAST-MODIFIED:20230526T071741Z
UID:1968-1685185200-1685196000@www.veteransforunification.org
SUMMARY:Chicago Memorial Day Parade 2023
DESCRIPTION:The City of Chicago and the Department of Cultural Affairs and Special Events (DCASE) are honored to announce the Grand Marshal for Chicago’s Memorial Day Parade and Wreath Laying Ceremony on Saturday\, May 27. The Wreath Laying Ceremony will begin at 11am at Daley Plaza (50 W. Washington St). The Parade will step off at noon and proceed south on State Street from Lake Street to Van Buren Street. Major General Rodney Boyd\, Assistant Adjutant General – Army of the Illinois National Guard and Commander of the Illinois Army National Guard\, will serve as the parade’s Grand Marshal. Originally from Chicago’s South Side\, Major General Boyd is the highest-ranking African American Officer in Illinois National Guard’s 300 year history. \nDuring the Wreath Laying Ceremony and Parade\, the City of Chicago honors fallen heroes and Gold Star family members who have lost a loved one in the United States Armed Forces to combat operations or while on active duty. Approved by Congress beginning in 1947\, Gold Star Lapel Pins and the Next of Kin Lapel Pins are presented to families not as an award\, but as symbols of honor worn by family members in remembrance of their fallen loved ones and their ultimate sacrifice. \nThe Illinois National Guard is celebrating their 300-year anniversary by commemorating significant dates in its history with communities across the state that share that history. Founded on May 9\, 1723\, the Illinois National Guard has and continues to draw its strength from the community. The National Guard is the oldest component of the U.S. military and the only military component with both state and federal missions. \nThe Wreath Laying Ceremony at 11am will also be livestreamed at Chicago.gov/live. \nMore information can be found at: https://www.chicago.gov/city/en/depts/dca/supp_info/memorial_day_parade.html
URL:https://www.veteransforunification.org/event/chicago-memorial-day-parade-2023/
LOCATION:IL
CATEGORIES:ceremony
ATTACH;FMTTYPE=image/jpeg:https://www.veteransforunification.org/wp-content/uploads/2023/05/memorialday2023_fi.jpg
END:VEVENT
BEGIN:VEVENT
DTSTART;TZID=UTC:20221203T110000
DTEND;TZID=UTC:20221203T123000
DTSTAMP:20260422T020824
CREATED:20221114T181747Z
LAST-MODIFIED:20221115T071636Z
UID:1833-1670065200-1670070600@www.veteransforunification.org
SUMMARY:81st Anniversary PEARL HARBOR Day of Remembrance 2022
DESCRIPTION:Invite to the 81st Anniversary PEARL HARBOR Day of Remembrance 2022. \n\n\n\nThe Once & Always Chicago Marines presents the 81st Remembrance of the attack on Pearl Harbor memorial program.  Saturday\, December 3\, 2021 at 11 am at the American Legion  located at 1824 W. Cortland St.\, Chicago IL 60622.
URL:https://www.veteransforunification.org/event/81st-anniversary-pearl-harbor-day-of-remembrance-2022/
LOCATION:American Legion & Sal\, 1824 W. Cortland St.\, Chicago\, IL\, 60622\, United States
CATEGORIES:ceremony
ATTACH;FMTTYPE=image/jpeg:https://www.veteransforunification.org/wp-content/uploads/2022/11/81st-2022-Pearl-Harbor-event-Flyer_nwvu.jpg
END:VEVENT
BEGIN:VEVENT
DTSTART;TZID=UTC:20220723T104500
DTEND;TZID=UTC:20220723T120000
DTSTAMP:20260422T020824
CREATED:20220702T235140Z
LAST-MODIFIED:20220702T235501Z
UID:1617-1658573100-1658577600@www.veteransforunification.org
SUMMARY:Korean War Veterans Commemorating the 69th ARMISTICE Salute
DESCRIPTION:Saturday\, July 23\, 2022\nChicago’s Kennedy Park\, 11320 S. Western Ave 60643\n10:45 am till 12:00 noon \ndownload flyer \n 
URL:https://www.veteransforunification.org/event/korean-war-veterans-commemorating-the-69th-armistice-salute/
LOCATION:Kennedy Park\, 11320 S. Western Ave\, Chicago\, IL\, 60643\, United States
CATEGORIES:ceremony
ATTACH;FMTTYPE=image/jpeg:https://www.veteransforunification.org/wp-content/uploads/2022/07/Korean-War-Event-7-23-22.jpg
END:VEVENT
BEGIN:VEVENT
DTSTART;TZID=UTC:20220430T110000
DTEND;TZID=UTC:20220430T123000
DTSTAMP:20260422T020824
CREATED:20220429T170206Z
LAST-MODIFIED:20220429T170206Z
UID:1531-1651316400-1651321800@www.veteransforunification.org
SUMMARY:The Fall of SAIGON event April 30
DESCRIPTION:The Fall of SAIGON event\, VIETNAM War officially ended 47 years ago.\nDate:    Sat.   APR 30\,  2022 \nTime:   1100 hrs  until 1230 hrs \nHosted by the  Franklin Pk. Post 974 of the American Legion in collaboration w/the Asian Community. \nSince 2003\, the Asian Community continues to gather with veterans to remember & reflect in Remembrance.   Marines have a true belief that: \nThey will only be Forgotten  …if We\,   fail to Remember them\,  “til VALhalla.” \n \n 
URL:https://www.veteransforunification.org/event/the-fall-of-saigon-event-april-30/
LOCATION:IL
CATEGORIES:ceremony
ATTACH;FMTTYPE=image/jpeg:https://www.veteransforunification.org/wp-content/uploads/fliers/2022/2022-Reminder-Fall-of-Saigon-0430-event-FLYer-page-001_fi.jpg
END:VEVENT
BEGIN:VEVENT
DTSTART;TZID=UTC:20210724T104500
DTEND;TZID=UTC:20210724T120000
DTSTAMP:20260422T020824
CREATED:20210723T155607Z
LAST-MODIFIED:20210723T155710Z
UID:1286-1627123500-1627128000@www.veteransforunification.org
SUMMARY:Korean War Veterans 68th Armistice Salute\, July 24\, 2021
DESCRIPTION:Share a moment of Remembrance to ALL those that served during the KOREAN WAR 68 years ago. \nPlease join this Invite to: End of the KOREAN War of July 1953 event on Sat. July 24\, 2021 in Chicago Kennedy Park located at 11320 S. Western Ave.
URL:https://www.veteransforunification.org/event/korean-war-veterans-68th-armistice-salute-july-24-2021/
LOCATION:Kennedy Park\, 11320 S. Western Ave\, Chicago\, IL\, 60643\, United States
CATEGORIES:ceremony
ATTACH;FMTTYPE=image/jpeg:https://www.veteransforunification.org/wp-content/uploads/2021/07/2021-Circle-Date-SAT-July-24-KWV-Ceremony-68th_fi.jpg
END:VEVENT
BEGIN:VEVENT
DTSTART;TZID=UTC:20191207T130000
DTEND;TZID=UTC:20191207T150000
DTSTAMP:20260422T020824
CREATED:20191203T104112Z
LAST-MODIFIED:20191203T104229Z
UID:705-1575723600-1575730800@www.veteransforunification.org
SUMMARY:Pearl Harbor 78th Remembrance Memorial
DESCRIPTION:The Once & Always Chicago Marines presents the 78th Remembrance of the attack on Pearl Harbor memorial program.  Saturday\, December 7\, 2019 at 1pm at the American Legion & Sal located at 1824 W. Cortland St.\, Chicago IL 60622.
URL:https://www.veteransforunification.org/event/pearl-harbor-78th-remembrance-memorial/
LOCATION:American Legion & Sal\, 1824 W. Cortland St.\, Chicago\, IL\, 60622\, United States
CATEGORIES:ceremony
ATTACH;FMTTYPE=image/jpeg:https://www.veteransforunification.org/wp-content/uploads/2019/12/Pearl-Harbor-event-Flyer-112719r2-e1575369731945.jpg
END:VEVENT
BEGIN:VEVENT
DTSTART;TZID=UTC:20191111T100000
DTEND;TZID=UTC:20191111T120000
DTSTAMP:20260422T020824
CREATED:20191107T231029Z
LAST-MODIFIED:20191107T231029Z
UID:665-1573466400-1573473600@www.veteransforunification.org
SUMMARY:Chicago Veterans Day Ceremony November 11 2019
DESCRIPTION:City of Chicago cordially invites you\nto attend a ceremony honoring those who have served\, in times of peace\nas well as in war. \nMonday\, November 11\, 2019\n Program: 11am\n Soldier Field Gate O\n at south end \nRSVP by November 6\, 2019 to (312) 742-1175\nor via email to rsvp@cityofchicago.org \nBusiness Attire or Service Dress Uniform\nComplimentary parking – exit 18th Street at Lake Shore Drive
URL:https://www.veteransforunification.org/event/chicago-veterans-day-ceremony-november-11-2019/
LOCATION:Soldier Field\, 1410 S Museum Campus Dr\, Chicago\, IL\, 60605\, United States
CATEGORIES:ceremony
ATTACH;FMTTYPE=image/jpeg:https://www.veteransforunification.org/wp-content/uploads/fliers/2019_fliers/Veterans-Day-invitation-2019-PDF.jpg
END:VEVENT
BEGIN:VEVENT
DTSTART;TZID=UTC:20191106T110000
DTEND;TZID=UTC:20191106T120000
DTSTAMP:20260422T020824
CREATED:20191105T151759Z
LAST-MODIFIED:20191105T152533Z
UID:638-1573038000-1573041600@www.veteransforunification.org
SUMMARY:Us Marine Corps 244th Birthday Cake-Cutting Ceremony
DESCRIPTION:Come out to the site of the New Chicago Veterans Home for a CAKE Cutting Ceremony Wednesday\, November 6\, 2019 at 1100 hrs.
URL:https://www.veteransforunification.org/event/us-marine-corps-244th-birthday-cake-cutting-ceremony/
LOCATION:Chicago’s Veterans Home\, 4250 N. Oak Park Ave\, Chicago\, IL\, 60634\, United States
CATEGORIES:ceremony
END:VEVENT
END:VCALENDAR